BEGIN:VCALENDAR
VERSION:2.0
PRODID:-//ChamberMaster//Event Calendar 2.0//EN
METHOD:PUBLISH
X-PUBLISHED-TTL:P3D
REFRESH-INTERVAL:P3D
CALSCALE:GREGORIAN
BEGIN:VEVENT
DTSTART:20190802T010000Z
DTEND:20190802T030000Z
X-MICROSOFT-CDO-ALLDAYEVENT:FALSE
SUMMARY:Weslaco Movies at the Park
DESCRIPTION:Weekly movie series at Mayor Pablo G. Pena City Park\n\nJune 6 - Spider-Man: Into the Spider-Verse\n\nJune 13 - Little Giants\n\nJune 20 - Smallfoot\n\nJune 27 - Jurassic World Fallen Kingdom\n\nJuly 11 - Aquaman\n\nJuly 18 - The Incredibles II\n\nJuly 25 - Minions\n\nAugust 1 - The Lego Movie 2
X-ALT-DESC;FMTTYPE=text/html:<p>Weekly movie series at Mayor Pablo G. Pena City Park</p>\n\n<p>June 6&nbsp\;- Spider-Man: Into the Spider-Verse<br />\nJune 13&nbsp\;- Little Giants<br />\nJune 20&nbsp\;- Smallfoot<br />\nJune 27&nbsp\;- Jurassic World Fallen Kingdom<br />\nJuly 11&nbsp\;- Aquaman<br />\nJuly 18&nbsp\;- The Incredibles II<br />\nJuly 25&nbsp\;- Minions<br />\nAugust 1&nbsp\;- The Lego Movie 2<br />\n&nbsp\;</p>\n
LOCATION:Mayor Pablo G. Pena City Park 300 N. Airport Dr.
UID:e.1244.18199
SEQUENCE:3
DTSTAMP:20260420T062935Z
URL:https://business.weslaco.com/events/details/weslaco-movies-at-the-park-08-01-2019-18199
END:VEVENT

END:VCALENDAR
