BEGIN:VCALENDAR
VERSION:2.0
PRODID:-//ChamberMaster//Event Calendar 2.0//EN
METHOD:PUBLISH
X-PUBLISHED-TTL:P3D
REFRESH-INTERVAL:P3D
CALSCALE:GREGORIAN
BEGIN:VEVENT
DTSTART:20170509T230000Z
DTEND:20170510T010000Z
X-MICROSOFT-CDO-ALLDAYEVENT:FALSE
SUMMARY:Weslaco Museum Artist Reception
DESCRIPTION:The Museum will host an art reception in honor of the Flores family who will be displaying their artwork throughout the month of May. Roel Flores didn't start life as an artist. He began his artistic career as a bass guitarist playing with many of the Valley's conjunto bands. This love of his began when he was very young and spanned over 60 years.\n\n\n\nIn 1995\, after having some health issues\, Roel's daughter gave him some paints and brushes. He immediately took to painting. Since he began\, his art has been sponsored by the Smithsonian as well as being exhibited across Texas\, and in parts of Mexico. In 2014\, Roel received a proclamation from President Obama in recognition of his artwork and his contribution to the American Culture.\n\n\n\nRoel and his wife have 5 children and many grandchildren. From that group\, Roel's grandson Daniel seems to have gotten his grandfather's talent for art. Daniel has his own unique style which differs from his grandfather\, but is no less impressive.\n\n\n\nJuan Flores\, Roel's brother\, is another talented member of this extraordinary local family. Like his brother\, Juan enjoys painting on canvas. However\, Juan is not only a painter\, but is also an accomplished wood carver. However\, the museum will only be displaying his paintings for the month of May.
X-ALT-DESC;FMTTYPE=text/html:<span class="_4n-j _fbReactionComponent__eventDetailsContentTags fsl" data-testid="event-permalink-details">The Museum will host an art reception in honor of the Flores family who will be displaying their artwork throughout the month of May. Roel Flores didn&rsquo\;t start life as an artist. He began his artistic career as a bass guitarist playing with many of the Valley&rsquo\;s conjunto bands. This love of his began when he was very young and spanned over 60 years.<br />\n<br />\nIn 1995\, after having some health issues\, Roel&rsquo\;s daughter gave him some paints and brushes. He immediately took to painting. Since he began\, his art has been sponsored by the Smithsonian as well as being exhibited across Texas\, and in parts of Mexico. In 2014\, Roel received a proclamation from President Obama in recognition of his artwork and his contribution t<span class="text_exposed_show">o the American Culture.<br />\n<br />\nRoel and his wife have 5 children and many grandchildren. From that group\, Roel&rsquo\;s grandson Daniel seems to have gotten his grandfather&rsquo\;s talent for art. Daniel has his own unique style which differs from his grandfather\, but is no less impressive.<br />\n<br />\nJuan Flores\, Roel&rsquo\;s brother\, is another talented member of this extraordinary local family. Like his brother\, Juan enjoys painting on canvas. However\, Juan is not only a painter\, but is also an accomplished wood carver. However\, the museum will only be displaying his paintings for the month of May. </span></span>
LOCATION:Weslaco Museum 500 S. Texas Blvd.
UID:e.1244.12020
SEQUENCE:3
DTSTAMP:20260422T032820Z
URL:https://business.weslaco.com/events/details/weslaco-museum-artist-reception-12020
END:VEVENT

END:VCALENDAR
