BEGIN:VCALENDAR
VERSION:2.0
PRODID:-//ChamberMaster//Event Calendar 2.0//EN
METHOD:PUBLISH
X-PUBLISHED-TTL:P3D
REFRESH-INTERVAL:P3D
CALSCALE:GREGORIAN
BEGIN:VEVENT
DTSTART:20180504T230000Z
DTEND:20180505T010000Z
X-MICROSOFT-CDO-ALLDAYEVENT:FALSE
SUMMARY:Weslaco Museum Artist Reception
DESCRIPTION:Ms. Monica Chang\, of Chiapas\, Mexico\, will be showcasing 'Invincible Springs' at the Weslaco Museum throughout the month of May. The collection is bright and joyful\, demonstrating how a rich cultural identity fits into the modern age.\n\n\n\nA reception for Ms. Chang's work will be held on Friday\, May 4\, from 6pm to 8pm. Ms. Chang herself will be unable to attend from Chiapas\, but her father and her friend will be present to speak on her behalf.
X-ALT-DESC;FMTTYPE=text/html:<span class="_4n-j _3cht fsl" data-testid="event-permalink-details">Ms. Monica Chang\, of Chiapas\, Mexico\, will be showcasing &#39\;Invincible Springs&#39\; at the Weslaco Museum throughout the month of May. The collection is bright and joyful\, demonstrating how a rich cultural identity fits into the modern age.<br />\n<br />\nA reception for Ms. Chang&#39\;s work will be held on Friday\, May 4\, from 6pm to 8pm. Ms. Chang herself will be unable to attend from Chiapas\, but her father and her friend will be present to speak on her behalf.</span>
LOCATION:Weslaco Museum 500 S. Texas
UID:e.1244.16872
SEQUENCE:3
DTSTAMP:20260421T074917Z
URL:https://business.weslaco.com/events/details/weslaco-museum-artist-reception-16872
END:VEVENT

END:VCALENDAR
