BEGIN:VCALENDAR
VERSION:2.0
PRODID:-//ChamberMaster//Event Calendar 2.0//EN
METHOD:PUBLISH
X-PUBLISHED-TTL:P3D
REFRESH-INTERVAL:P3D
CALSCALE:GREGORIAN
BEGIN:VEVENT
DTSTART:20180712T230000Z
DTEND:20180713T010000Z
X-MICROSOFT-CDO-ALLDAYEVENT:FALSE
SUMMARY:Weslaco Museum Artist Reception
DESCRIPTION:Reception for Artist Gaby Rico\, who will be the featured exhibit for the month of July at the Weslaco museum.\n\n\n\nESOTERICA\n\nwww.gabyrico.com\n\n\n\nESOTERICA:\n\nEsoteric information refers to Esotericism\, the hidden meanings and symbolism of various philosophical\, historical\, and religious texts. It also refers to information understood by a small group\, which is kept secret for larger groups.\n\n\n\nArtist Gaby Rico to present new artwork to celebrate her spiritual views and invite the viewer to take a third eye kind of inner trip. To promote and share the good vibes and to embrace ourselves and the planet are a priority in order to stay in harmony within orselves\, and where we belong\, the universe.\n\n\n\nExpect to see mixed media work on canvas with rich texture\, bold color and even yourself reflected in mirrors!\n\n\n\n\n\nPlease join us\, chances are that you get your chakras aligned with the stars!
X-ALT-DESC;FMTTYPE=text/html:<span>Reception for Artist Gaby Rico\, who will be the featured exhibit for the month of July at the Weslaco museum.<br />\n<br />\nESOTERICA<br />\n<a href="https://l.facebook.com/l.php?u=http%3A%2F%2Fwww.gabyrico.com%2F&amp\;h=AT3QREN0tQRQri3akP1uKkUOQb8qBipKZUSsNcgdozP807AFoWFdfDIH1c_5Vyg4hHfGRWwKCyQ-_9JINGH6-OQgGtUYQXORM_krikq3nY07DFyp1dOt17PMM4siIuDLZw&amp\;s=1" target="_blank">www.gabyrico.com</a><br />\n<br />\nESOTERICA:<br />\nEsoteric information refers to Esotericism\, the hidden meanings and symbolism of various philosophical\, historical\, and religious texts. It also refers to information understood by a small group\, which is kept secret for larger groups.<br />\n<br />\nArtist Gaby Rico to present new artwork to celebrate her spiritual views and invite the viewer to take a third eye kind of inner trip. To promote and share the good vibes and to embrace ourselves and the planet are a priority in order to stay in harmony within orselves\, and where we belong\, the universe.<br />\n<br />\nExpect to see mixed media work on canvas with rich texture\, bold color and even yourself reflected in mirrors!<br />\n<br />\n<br />\nPlease join us\, chances are that you get your chakras aligned with the stars! </span>
LOCATION:Weslaco Museum 500 S. Texas Blvd.
UID:e.1244.16932
SEQUENCE:3
DTSTAMP:20260421T055822Z
URL:https://business.weslaco.com/events/details/weslaco-museum-artist-reception-16932
END:VEVENT

END:VCALENDAR
