BEGIN:VCALENDAR
VERSION:2.0
PRODID:-//ChamberMaster//Event Calendar 2.0//EN
METHOD:PUBLISH
X-PUBLISHED-TTL:P3D
REFRESH-INTERVAL:P3D
CALSCALE:GREGORIAN
BEGIN:VEVENT
DTSTART:20180912T230000Z
DTEND:20180913T010000Z
X-MICROSOFT-CDO-ALLDAYEVENT:FALSE
SUMMARY:Weslaco Museum Artist Reception
DESCRIPTION:Throughout the month of September\, The Weslaco Museum will host "Viacrucis\," an extraordinary exhibit by photojournalist Ver nica Gabriela C rdenas. In "Viacrucis\," we see the lives of asylum seekers as they travelled from Central America to the United States - their days defined by the wheels\, walls\, and motion of a boxcar train.\n\n\n\nA reception for this captivating story and the journalist who documented it will be held Wednesday\, September 12\, from 6:00 pm to 8:00 pm. All are welcome.
X-ALT-DESC;FMTTYPE=text/html:<span>Throughout the month of September\, <a href="https://www.facebook.com/TheWeslacoMuseum/" target="_blank">The Weslaco Museum</a> will host &quot\;Viacrucis\,&quot\; an extraordinary exhibit by photojournalist <a href="https://www.facebook.com/veronica.gabriela.902" target="_blank">Ver&oacute\;nica Gabriela</a> C&aacute\;rdenas. In &quot\;Viacrucis\,&quot\; we see the lives of asylum seekers as they travelled from Central America to the United States - their days defined by the wheels\, walls\, and motion of a boxcar train.<br />\n<br />\nA reception for this captivating story and the journalist who documented it will be held Wednesday\, September 12\, from 6:00 pm to 8:00 pm. All are welcome.</span>
LOCATION:Weslaco Museum 500 S. Texas Blvd.
UID:e.1244.16967
SEQUENCE:3
DTSTAMP:20260421T023405Z
URL:https://business.weslaco.com/events/details/weslaco-museum-artist-reception-16967
END:VEVENT

END:VCALENDAR
