BEGIN:VCALENDAR
VERSION:2.0
PRODID:-//ChamberMaster//Event Calendar 2.0//EN
METHOD:PUBLISH
X-PUBLISHED-TTL:P3D
REFRESH-INTERVAL:P3D
CALSCALE:GREGORIAN
BEGIN:VEVENT
DTSTART:20181005T230000Z
DTEND:20181006T000000Z
X-MICROSOFT-CDO-ALLDAYEVENT:FALSE
SUMMARY:Weslaco Museum Artist Reception
DESCRIPTION:Throughout the month of October\, The Weslaco Museum will host "Indigenous Warriors and Rituals of Mesoamerica\," an installation by prolific artist and instructor Andy Villarreal. As curated by fellow artist Gaby Rico\, Villarreal's work goes beyond simple remembrance for a buried people: it is the bold and bright continuation of an ancient tradition that shapes our culture today.\n\nAlongside paintings of warriors\, pyramids\, jaguars\, and serpents\, the installation will also include a large ofrenda for D a de los Muertos. Evoking the pre-Columbian indigenous people of Mesoamerica\, the 17th century Catholic Church\, and the more familiar features of our modern holiday\, the altar demonstrates the original clashing and eventual melding of two distinct cultures into one\, unique celebration.\n\n\nAndy A. Villarreal is based in San Antonio\, Texas\, where he has worked as an art instructor for nearly 30 years\, including his current positions with the University of the Incarnate Word and the Inspire Community Fine Art Center. As a highly awarded artist\, Mr. Villarreal has exhibited his pieces in hundreds of galleries and museums throughout the United States and Mexico. Gaby Rico has exhibited work both domestically and internationally\, as well as become an active proponent for the arts community in the Rio Grande Valley.
X-ALT-DESC;FMTTYPE=text/html:<p>Throughout the month of October\, <a class="profileLink" data-hovercard="/ajax/hovercard/page.php?id=879286545515999&amp\;extragetparams=%7B%22__tn__%22%3A%22%2CdK-R-R%22%2C%22eid%22%3A%22ARBaJLthvzx1htJbKd88ihvNSBHO8mnyNz2Meq9CS6CpmLf34oW5p-p_VJz2vAfWmuKpfbvho7bg3mOJ%22%2C%22fref%22%3A%22mentions%22%2C%22directed_target_id%22%3A2148036648791419%7D" data-hovercard-prefer-more-content-show="1" href="https://www.facebook.com/TheWeslacoMuseum/?__tn__=K-R&amp\;eid=ARBaJLthvzx1htJbKd88ihvNSBHO8mnyNz2Meq9CS6CpmLf34oW5p-p_VJz2vAfWmuKpfbvho7bg3mOJ&amp\;fref=mentions&amp\;__xts__%5B0%5D=68.ARCiJ0sgtuYtIl67SNRW8k8PqOWBEC_ApR8o4z4zEXXM6QrTjzFguhq1v8xiOBpInsY5Lsk8BAvimiOMsrhtSWBEdIl2B-QqlrJzF7HMFEnVd4N4wDSLZs2SImtEsMCho9yrU_wjkPhJOcysnOuXHLVyvvzSZAKCDA8loADEbiqPYGFJDmsVeZEav0EHoWDzEnRP_wKTJPeIZYFVQG4m-KnrUqufo5LDedTfMse7">The Weslaco Museum</a> will host &quot\;Indigenous Warriors and Rituals of Mesoamerica\,&quot\; an installation by prolific artist and instructor <a class="profileLink" data-hovercard="/ajax/hovercard/user.php?id=100017505341300&amp\;extragetparams=%7B%22fref%22%3A%22mentions%22%2C%22directed_target_id%22%3A2148036648791419%7D" data-hovercard-prefer-more-content-show="1" href="https://www.facebook.com/andy.villarreal.7330?fref=mentions&amp\;__xts__%5B0%5D=68.ARCiJ0sgtuYtIl67SNRW8k8PqOWBEC_ApR8o4z4zEXXM6QrTjzFguhq1v8xiOBpInsY5Lsk8BAvimiOMsrhtSWBEdIl2B-QqlrJzF7HMFEnVd4N4wDSLZs2SImtEsMCho9yrU_wjkPhJOcysnOuXHLVyvvzSZAKCDA8loADEbiqPYGFJDmsVeZEav0EHoWDzEnRP_wKTJPeIZYFVQG4m-KnrUqufo5LDedTfMse7&amp\;__tn__=K-R">Andy Villarreal</a>. As curated by fellow artist <a class="profileLink" data-hovercard="/ajax/hovercard/user.php?id=688501095&amp\;extragetparams=%7B%22fref%22%3A%22mentions%22%2C%22directed_target_id%22%3A2148036648791419%7D" data-hovercard-prefer-more-content-show="1" href="https://www.facebook.com/gabyricoart?fref=mentions&amp\;__xts__%5B0%5D=68.ARCiJ0sgtuYtIl67SNRW8k8PqOWBEC_ApR8o4z4zEXXM6QrTjzFguhq1v8xiOBpInsY5Lsk8BAvimiOMsrhtSWBEdIl2B-QqlrJzF7HMFEnVd4N4wDSLZs2SImtEsMCho9yrU_wjkPhJOcysnOuXHLVyvvzSZAKCDA8loADEbiqPYGFJDmsVeZEav0EHoWDzEnRP_wKTJPeIZYFVQG4m-KnrUqufo5LDedTfMse7&amp\;__tn__=K-R">Gaby Rico</a>\, Villarreal&rsquo\;s work goes beyond simple remembrance for a buried people: it is the bold and bright continuation of an ancient tradition that shapes our culture today.</p>\n\n<p>Alongside paintings of warriors\, pyramids\, jaguars\, and serpents\, the installation will also incl<span class="text_exposed_show">ude a large ofrenda for D&iacute\;a de los Muertos. Evoking the pre-Columbian indigenous people of Mesoamerica\, the 17th century Catholic Church\, and the more familiar features of our modern holiday\, the altar demonstrates the original clashing and eventual melding of two distinct cultures into one\, unique celebration.</span></p>\n\n<div class="text_exposed_show">\n<p>Andy A. Villarreal is based in San Antonio\, Texas\, where he has worked as an art instructor for nearly 30 years\, including his current positions with the <a class="profileLink" data-hovercard="/ajax/hovercard/page.php?id=91645279670&amp\;extragetparams=%7B%22__tn__%22%3A%22%2CdK-R-R%22%2C%22eid%22%3A%22ARAf10C8vvfEvjYdwcRdzTGQgTS8VYpWfgtcL2Z4Vte8hgQw-XK7X5a1dDrYjkiQL71lUWuCOhO3cYyy%22%2C%22fref%22%3A%22mentions%22%2C%22directed_target_id%22%3A2148036648791419%7D" data-hovercard-prefer-more-content-show="1" href="https://www.facebook.com/uiwcardinals/?__tn__=K-R&amp\;eid=ARAf10C8vvfEvjYdwcRdzTGQgTS8VYpWfgtcL2Z4Vte8hgQw-XK7X5a1dDrYjkiQL71lUWuCOhO3cYyy&amp\;fref=mentions&amp\;__xts__%5B0%5D=68.ARCiJ0sgtuYtIl67SNRW8k8PqOWBEC_ApR8o4z4zEXXM6QrTjzFguhq1v8xiOBpInsY5Lsk8BAvimiOMsrhtSWBEdIl2B-QqlrJzF7HMFEnVd4N4wDSLZs2SImtEsMCho9yrU_wjkPhJOcysnOuXHLVyvvzSZAKCDA8loADEbiqPYGFJDmsVeZEav0EHoWDzEnRP_wKTJPeIZYFVQG4m-KnrUqufo5LDedTfMse7">University of the Incarnate Word</a> and the <a class="profileLink" data-hovercard="/ajax/hovercard/page.php?id=656685401092873&amp\;extragetparams=%7B%22__tn__%22%3A%22%2CdK-R-R%22%2C%22eid%22%3A%22ARDev6NfXNaHZ6YA7fW4EHmHsHjczXPgz3tb5uMjRoBGBD4rHfVAnmcIKwbCicmXhiUJqEYHakSuykMB%22%2C%22fref%22%3A%22mentions%22%2C%22directed_target_id%22%3A2148036648791419%7D" data-hovercard-prefer-more-content-show="1" href="https://www.facebook.com/inspirefineartcenter/?__tn__=K-R&amp\;eid=ARDev6NfXNaHZ6YA7fW4EHmHsHjczXPgz3tb5uMjRoBGBD4rHfVAnmcIKwbCicmXhiUJqEYHakSuykMB&amp\;fref=mentions&amp\;__xts__%5B0%5D=68.ARCiJ0sgtuYtIl67SNRW8k8PqOWBEC_ApR8o4z4zEXXM6QrTjzFguhq1v8xiOBpInsY5Lsk8BAvimiOMsrhtSWBEdIl2B-QqlrJzF7HMFEnVd4N4wDSLZs2SImtEsMCho9yrU_wjkPhJOcysnOuXHLVyvvzSZAKCDA8loADEbiqPYGFJDmsVeZEav0EHoWDzEnRP_wKTJPeIZYFVQG4m-KnrUqufo5LDedTfMse7">Inspire Community Fine Art Center</a>. As a highly awarded artist\, Mr. Villarreal has exhibited his pieces in hundreds of galleries and museums throughout the United States and Mexico. Gaby Rico has exhibited work both domestically and internationally\, as well as become an active proponent for the arts community in the Rio Grande Valley.</p>\n</div>\n
LOCATION:Weslaco Museum 500 S. Texas
UID:e.1244.16977
SEQUENCE:3
DTSTAMP:20260420T231328Z
URL:https://business.weslaco.com/events/details/weslaco-museum-artist-reception-16977
END:VEVENT

END:VCALENDAR
