BEGIN:VCALENDAR
VERSION:2.0
PRODID:-//ChamberMaster//Event Calendar 2.0//EN
METHOD:PUBLISH
X-PUBLISHED-TTL:P3D
REFRESH-INTERVAL:P3D
CALSCALE:GREGORIAN
BEGIN:VEVENT
DTSTART:20191010T230000Z
DTEND:20191011T010000Z
X-MICROSOFT-CDO-ALLDAYEVENT:FALSE
SUMMARY:Weslaco Museum Artist Reception
DESCRIPTION:WISD Art Students Artist Reception - "Dia de los Muertos"
X-ALT-DESC;FMTTYPE=text/html:WISD Art Students Artist Reception - &quot\;Dia de los Muertos&quot\;&nbsp\;
LOCATION:Weslaco Museum 500 S. Texas Blvd.
UID:e.1244.18767
SEQUENCE:3
DTSTAMP:20260420T031501Z
URL:https://business.weslaco.com/events/details/weslaco-museum-artist-reception-18767
END:VEVENT

END:VCALENDAR
