BEGIN:VCALENDAR
VERSION:2.0
PRODID:-//ChamberMaster//Event Calendar 2.0//EN
METHOD:PUBLISH
X-PUBLISHED-TTL:P3D
REFRESH-INTERVAL:P3D
CALSCALE:GREGORIAN
BEGIN:VEVENT
DTSTART:20200110T000000Z
DTEND:20200110T020000Z
X-MICROSOFT-CDO-ALLDAYEVENT:FALSE
SUMMARY:Weslaco Museum Artist Reception
DESCRIPTION:Born and raised in Mexico City\, artist Fany Mares passion for painting started at a young age. With the love and support of her family she has developed that passion into something beautiful. The Fany Mares art exhibit will run throughout the month of January at The Weslaco Museum. Light refreshments will be served.\n\n\n\n"Harmonic Resonance\," a Fany Mares art exhibit\, will run through January 4th - 30th at The Weslaco Museum.
X-ALT-DESC;FMTTYPE=text/html:<span style="color: rgb(29\, 33\, 41)\; font-family: Helvetica\, Arial\, sans-serif\; font-size: 14px\; white-space: pre-wrap\;">Born and raised in Mexico City\, artist Fany Mares passion for painting started at a young age. With the love and support of her family she has developed that passion into something beautiful. The Fany Mares art exhibit will run throughout the month of January at The Weslaco Museum. Light refreshments will be served.</span><br style="color: rgb(29\, 33\, 41)\; font-family: Helvetica\, Arial\, sans-serif\; font-size: 14px\; white-space: pre-wrap\;" />\n<br style="color: rgb(29\, 33\, 41)\; font-family: Helvetica\, Arial\, sans-serif\; font-size: 14px\; white-space: pre-wrap\;" />\n<span style="color: rgb(29\, 33\, 41)\; font-family: Helvetica\, Arial\, sans-serif\; font-size: 14px\; white-space: pre-wrap\;">&quot\;Harmonic Resonance\,&quot\; a Fany Mares art exhibit\, will run through January 4th - 30th at The Weslaco Museum. </span>
LOCATION:Weslaco Museum 500 S. Texas Blvd.
UID:e.1244.19054
SEQUENCE:3
DTSTAMP:20260419T215009Z
URL:https://business.weslaco.com/events/details/weslaco-museum-artist-reception-19054
END:VEVENT

END:VCALENDAR
