BEGIN:VCALENDAR
VERSION:2.0
PRODID:-//ChamberMaster//Event Calendar 2.0//EN
METHOD:PUBLISH
X-PUBLISHED-TTL:P3D
REFRESH-INTERVAL:P3D
CALSCALE:GREGORIAN
BEGIN:VEVENT
DTSTART:20200612T230000Z
DTEND:20200613T010000Z
X-MICROSOFT-CDO-ALLDAYEVENT:FALSE
SUMMARY:Weslaco Museum Artist Reception
DESCRIPTION:Reception for artist Monica Ramirez\, whose work will be on display at the Weslaco Museum for the month of June.
X-ALT-DESC;FMTTYPE=text/html:<font color="#1d2129" face="Helvetica\, Arial\, sans-serif"><span style="font-size: 14px\; white-space: pre-wrap\;">Reception for artist Monica Ramirez\, whose work will be on display at the Weslaco Museum for the month of June. </span></font>
LOCATION:Weslaco Museum 500 S. Texas Blvd.
UID:e.1244.19391
SEQUENCE:3
DTSTAMP:20260419T142103Z
URL:https://business.weslaco.com/events/details/weslaco-museum-artist-reception-19391
END:VEVENT

END:VCALENDAR
