BEGIN:VCALENDAR
VERSION:2.0
PRODID:-//ChamberMaster//Event Calendar 2.0//EN
METHOD:PUBLISH
X-PUBLISHED-TTL:P3D
REFRESH-INTERVAL:P3D
CALSCALE:GREGORIAN
BEGIN:VEVENT
DTSTART:20161203T200000Z
DTEND:20161203T210000Z
X-MICROSOFT-CDO-ALLDAYEVENT:FALSE
SUMMARY:Weslaco Museum Bandits by the Border presentation by Gabriel Ozuna
DESCRIPTION:A presentation on the Mexican Revolution in the Rio Grande Valley
X-ALT-DESC;FMTTYPE=text/html:A presentation on the Mexican Revolution in the Rio Grande Valley
LOCATION:Weslaco Museum 500 S. Texas Blvd.
UID:e.1244.11487
SEQUENCE:3
DTSTAMP:20260422T115641Z
URL:https://business.weslaco.com/events/details/weslaco-museum-bandits-by-the-border-presentation-by-gabriel-ozuna-11487
END:VEVENT

END:VCALENDAR
