BEGIN:VCALENDAR
VERSION:2.0
PRODID:-//ChamberMaster//Event Calendar 2.0//EN
METHOD:PUBLISH
X-PUBLISHED-TTL:P3D
REFRESH-INTERVAL:P3D
CALSCALE:GREGORIAN
BEGIN:VEVENT
DTSTART:20190928T190000Z
DTEND:20190928T210000Z
X-MICROSOFT-CDO-ALLDAYEVENT:FALSE
SUMMARY:Weslaco Museum Book Signing and Presentation
DESCRIPTION:Saturday Speaker Series with Mr. Juan Carmona\, author of The Alton Bus Crash. \n\n\n\nA September morning in 1989 changed Alton's history forever. At 7:34 a.m\, a Dr Pepper truck collided with Mission School Bus no. 6. After the bus and it's occupants plunged into a water-filled caliche pit\, twenty-one students lost their lives. The resulting investigation flooded the small South Texas community with reporters and lawyers. The heavily scrutinized legal battle divided the city\, but it did ultimately produce changes in school bus safety that continue to save lives today. Juan Carmona navigates the complicated legacy of the tragic accident and its aftermath.\n\n\n\nJuan P. Carmona is a social studies teacher at Donna High School and a dual-enrollment history instructor through South Texas College. He graduated with honors from the American Military University with a master's degree in American history and was the recipient of the 2018 James F. Veninga Outstanding Teaching Humanities Award by Humanities Texas.\n\n\n\nCome by the Weslaco Museum Saturday\, September 28th at 2 pm to meet the author and for a presentation on The Alton Bus Crash.
X-ALT-DESC;FMTTYPE=text/html:<span style="color: rgb(29\, 33\, 41)\; font-family: Helvetica\, Arial\, sans-serif\; font-size: 14px\; white-space: pre-wrap\;">Saturday Speaker Series with Mr. Juan Carmona\, author of The Alton Bus Crash. </span><br style="color: rgb(29\, 33\, 41)\; font-family: Helvetica\, Arial\, sans-serif\; font-size: 14px\; white-space: pre-wrap\;" />\n<br style="color: rgb(29\, 33\, 41)\; font-family: Helvetica\, Arial\, sans-serif\; font-size: 14px\; white-space: pre-wrap\;" />\n<span style="color: rgb(29\, 33\, 41)\; font-family: Helvetica\, Arial\, sans-serif\; font-size: 14px\; white-space: pre-wrap\;">A September morning in 1989 changed Alton&#39\;s history forever. At 7:34 a.m\, a Dr Pepper truck collided with Mission School Bus no. 6. After the bus and it&#39\;s occupants plunged into a water-filled caliche pit\, twenty-one students lost their lives. The resulting investigation flooded the small South Texas community with reporters and lawyers. The heavily scrutinized legal battle divided the city\, but it did ultimately produce changes in school bus safety that continue to save lives today. Juan Carmona navigates the complicated legacy of the tragic accident and its aftermath.</span><br style="color: rgb(29\, 33\, 41)\; font-family: Helvetica\, Arial\, sans-serif\; font-size: 14px\; white-space: pre-wrap\;" />\n<br style="color: rgb(29\, 33\, 41)\; font-family: Helvetica\, Arial\, sans-serif\; font-size: 14px\; white-space: pre-wrap\;" />\n<span style="color: rgb(29\, 33\, 41)\; font-family: Helvetica\, Arial\, sans-serif\; font-size: 14px\; white-space: pre-wrap\;">Juan P. Carmona is a social studies teacher at Donna High School and a dual-enrollment history instructor through South Texas College. He graduated with honors from the American Military University with a master&#39\;s degree in American history and was the recipient of the 2018 James F. Veninga Outstanding Teaching Humanities Award by Humanities Texas.</span><br style="color: rgb(29\, 33\, 41)\; font-family: Helvetica\, Arial\, sans-serif\; font-size: 14px\; white-space: pre-wrap\;" />\n<br style="color: rgb(29\, 33\, 41)\; font-family: Helvetica\, Arial\, sans-serif\; font-size: 14px\; white-space: pre-wrap\;" />\n<span style="color: rgb(29\, 33\, 41)\; font-family: Helvetica\, Arial\, sans-serif\; font-size: 14px\; white-space: pre-wrap\;">Come by the Weslaco Museum Saturday\, September 28th at 2 pm to meet the author and for a presentation on The Alton Bus Crash. </span>
LOCATION:Weslaco Museum 500 S. Texas
UID:e.1244.18765
SEQUENCE:3
DTSTAMP:20260420T062402Z
URL:https://business.weslaco.com/events/details/weslaco-museum-book-signing-and-presentation-18765
END:VEVENT

END:VCALENDAR
