BEGIN:VCALENDAR
VERSION:2.0
PRODID:-//ChamberMaster//Event Calendar 2.0//EN
METHOD:PUBLISH
X-PUBLISHED-TTL:P3D
REFRESH-INTERVAL:P3D
CALSCALE:GREGORIAN
BEGIN:VEVENT
DTSTART:20170603T163000Z
DTEND:20170603T180000Z
X-MICROSOFT-CDO-ALLDAYEVENT:FALSE
SUMMARY:Weslaco Museum Bridal Exhibit Luncheon Fundraiser
DESCRIPTION:Fundraising luncheon while sitting amongst wedding dresses and wedding photos from the 1920's through the present. For more information\, please contact us. Tickets are $20 and available at the museum.\n\n\n\nLunch will consist of a salad\, beverage\, entree\, dessert\, and coffee.
X-ALT-DESC;FMTTYPE=text/html:<span class="_4n-j _3cht fsl" data-testid="event-permalink-details">Fundraising luncheon while sitting amongst wedding dresses and wedding photos from the 1920&#39\;s through the present. For more information\, please contact us. Tickets are $20 and available at the museum.<br />\n<br />\nLunch will consist of a salad\, beverage\, entree\, dessert\, and coffee.</span>
LOCATION:Weslaco Museum 500 S. Texas
UID:e.1244.12739
SEQUENCE:3
DTSTAMP:20260422T014126Z
URL:https://business.weslaco.com/events/details/weslaco-museum-bridal-exhibit-luncheon-fundraiser-12739
END:VEVENT

END:VCALENDAR
