BEGIN:VCALENDAR
VERSION:2.0
PRODID:-//ChamberMaster//Event Calendar 2.0//EN
METHOD:PUBLISH
X-PUBLISHED-TTL:P3D
REFRESH-INTERVAL:P3D
CALSCALE:GREGORIAN
BEGIN:VEVENT
DTSTART:20171007T150000Z
DTEND:20171007T170000Z
X-MICROSOFT-CDO-ALLDAYEVENT:FALSE
SUMMARY:Weslaco Museum Crafting Series
DESCRIPTION:Weslaco Museum Crafting Series - The Art of Lace Making\n\nClass size is limited\, so please call ahead for reservation: 956-968-9142.\n\nLike and share the Weslaco Museum on Facebook and get a 20% discount!
X-ALT-DESC;FMTTYPE=text/html:<p>Weslaco Museum Crafting Series - The Art of Lace Making</p>\n\n<p>Class size is limited\, so please call ahead for reservation: 956-968-9142.</p>\n\n<p>Like and share the Weslaco Museum on Facebook and get a 20% discount!</p>\n
LOCATION:Weslaco Museum 500 S. Texas
UID:e.1244.14418
SEQUENCE:3
DTSTAMP:20260421T201811Z
URL:https://business.weslaco.com/events/details/weslaco-museum-crafting-series-14418
END:VEVENT

END:VCALENDAR
