BEGIN:VCALENDAR
VERSION:2.0
PRODID:-//ChamberMaster//Event Calendar 2.0//EN
METHOD:PUBLISH
X-PUBLISHED-TTL:P3D
REFRESH-INTERVAL:P3D
CALSCALE:GREGORIAN
BEGIN:VEVENT
DTSTART:20151106T000000Z
DTEND:20151106T020000Z
X-MICROSOFT-CDO-ALLDAYEVENT:FALSE
SUMMARY:Weslaco Museum Exhibit Opening
DESCRIPTION:Gourd Fine Art by Crystal Ziemann - Exhibit opening and reception November 5\, 6 pm to 8 pm.
X-ALT-DESC;FMTTYPE=text/html:Gourd Fine Art by Crystal Ziemann - Exhibit opening and reception November 5\, 6 pm to 8 pm. &nbsp\;&nbsp\;&nbsp\;&nbsp\;&nbsp\;
LOCATION:Weslaco Museum 6 pm to 8 pm
UID:e.1244.8756
SEQUENCE:3
DTSTAMP:20260423T083857Z
URL:https://business.weslaco.com/events/details/weslaco-museum-exhibit-opening-11-05-2015-8756
END:VEVENT

END:VCALENDAR
