BEGIN:VCALENDAR
VERSION:2.0
PRODID:-//ChamberMaster//Event Calendar 2.0//EN
METHOD:PUBLISH
X-PUBLISHED-TTL:P3D
REFRESH-INTERVAL:P3D
CALSCALE:GREGORIAN
BEGIN:VEVENT
DTSTART:20160109T200000Z
DTEND:20160109T210000Z
X-MICROSOFT-CDO-ALLDAYEVENT:FALSE
SUMMARY:Weslaco Museum Lecture - "South Texas During the Civil War"
DESCRIPTION:
X-ALT-DESC;FMTTYPE=text/html:
LOCATION:Weslaco Museum 500 S. Texas
UID:e.1244.9073
SEQUENCE:3
DTSTAMP:20260423T065700Z
URL:https://business.weslaco.com/events/details/weslaco-museum-lecture-south-texas-during-the-civil-war-01-09-2016-9073
END:VEVENT

END:VCALENDAR
