BEGIN:VCALENDAR
VERSION:2.0
PRODID:-//ChamberMaster//Event Calendar 2.0//EN
METHOD:PUBLISH
X-PUBLISHED-TTL:P3D
REFRESH-INTERVAL:P3D
CALSCALE:GREGORIAN
BEGIN:VEVENT
DTSTART:20160206T200000Z
DTEND:20160206T210000Z
X-MICROSOFT-CDO-ALLDAYEVENT:FALSE
SUMMARY:Weslaco Museum Lecture - "The Yellow Fever Epidemic of 1878"
DESCRIPTION:
X-ALT-DESC;FMTTYPE=text/html:
LOCATION:Weslaco Museum 500 S. Texas
UID:e.1244.9075
SEQUENCE:3
DTSTAMP:20260423T041134Z
URL:https://business.weslaco.com/events/details/weslaco-museum-lecture-the-yellow-fever-epidemic-of-1878-02-06-2016-9075
END:VEVENT

END:VCALENDAR
