BEGIN:VCALENDAR
VERSION:2.0
PRODID:-//ChamberMaster//Event Calendar 2.0//EN
METHOD:PUBLISH
X-PUBLISHED-TTL:P3D
REFRESH-INTERVAL:P3D
CALSCALE:GREGORIAN
BEGIN:VEVENT
DTSTART:20190711T230000Z
DTEND:20190712T010000Z
X-MICROSOFT-CDO-ALLDAYEVENT:FALSE
SUMMARY:Weslaco Museum Military Exhibit Dedication
DESCRIPTION:A dedication ceremony of the Military Area at the Weslaco Museum will be held on Thursday\, July 11. This area has been under reconstruction for the past several months. There will be a Military Honor Guard to open this event with light refreshments to follow. \n\nYou're also invited to view the current exhibit in the Gallery honoring all service members: HEROES. This exhibit is in cooperation with the Weslaco 100 celebration. This is to honor all who serve to protect our wonderful city\, county\, state and nation.
X-ALT-DESC;FMTTYPE=text/html:<p class="xmsonormal"><span style="font-size:12.0pt\;color:black">A dedication ceremony of the Military Area at&nbsp\;the Weslaco Museum will be held on Thursday\, July 11.&nbsp\;This area has been under reconstruction for the past several months. There will be a Military Honor Guard to open this event with light refreshments to follow.&nbsp\;</span><o:p></o:p></p>\n\n<p class="xmsonormal"><span style="color: black\; font-size: 12pt\;">You&#39\;re also invited to view the current exhibit in the Gallery honoring all service members: </span><b style="color: black\; font-size: 12pt\;">HEROES</b><span style="color: black\; font-size: 12pt\;">. This exhibit is in cooperation with the Weslaco 100 celebration. This is to honor all who serve to protect our wonderful city\, county\, state and nation.</span></p>\n\n<p class="xmsonormal"><o:p></o:p></p>\n
LOCATION:Weslaco Museum 500 S. Texas Blvd.
UID:e.1244.18697
SEQUENCE:3
DTSTAMP:20260420T080420Z
URL:https://business.weslaco.com/events/details/weslaco-museum-military-exhibit-dedication-18697
END:VEVENT

END:VCALENDAR
