BEGIN:VCALENDAR
VERSION:2.0
PRODID:-//ChamberMaster//Event Calendar 2.0//EN
METHOD:PUBLISH
X-PUBLISHED-TTL:P3D
REFRESH-INTERVAL:P3D
CALSCALE:GREGORIAN
BEGIN:VEVENT
DTSTART:20150213T000000Z
DTEND:20150213T020000Z
X-MICROSOFT-CDO-ALLDAYEVENT:FALSE
SUMMARY:Weslaco Museum Opening Exhibit Reception
DESCRIPTION:"VIRTUOSA" is an exhibition of self portraits\, created by Ms. Rico\, that act as a "window" into her moods\, character and inner self. The exhibition will be up through February at the Weslaco Museum.
X-ALT-DESC;FMTTYPE=text/html:&quot\;VIRTUOSA&quot\; is an exhibition of self portraits\, created by Ms. Rico\, that act as a &quot\;window&quot\; into her moods\, character and inner self. The exhibition will be up through February at the Weslaco Museum.&nbsp\;
LOCATION:Weslaco Museum 500 S. Texas
UID:e.1244.6045
SEQUENCE:3
DTSTAMP:20260423T224613Z
URL:https://business.weslaco.com/events/details/weslaco-museum-opening-exhibit-reception-02-12-2015-6045
END:VEVENT

END:VCALENDAR
