BEGIN:VCALENDAR
VERSION:2.0
PRODID:-//ChamberMaster//Event Calendar 2.0//EN
METHOD:PUBLISH
X-PUBLISHED-TTL:P3D
REFRESH-INTERVAL:P3D
CALSCALE:GREGORIAN
BEGIN:VEVENT
DTSTART:20170406T230000Z
DTEND:20170407T010000Z
X-MICROSOFT-CDO-ALLDAYEVENT:FALSE
SUMMARY:Weslaco Museum Opening Exhibit Reception
DESCRIPTION:Reception to welcome local artist Paul Pena\, whose intriguing artwork will be a featured exhibit through the month of April at the Weslaco Museum.
X-ALT-DESC;FMTTYPE=text/html:Reception to welcome local artist Paul Pena\, whose intriguing artwork will be a featured exhibit through the month of April at the Weslaco Museum.
LOCATION:Weslaco Museum 500 S. Texas
UID:e.1244.11954
SEQUENCE:3
DTSTAMP:20260422T052643Z
URL:https://business.weslaco.com/events/details/weslaco-museum-opening-exhibit-reception-11954
END:VEVENT

END:VCALENDAR
