BEGIN:VCALENDAR
VERSION:2.0
PRODID:-//ChamberMaster//Event Calendar 2.0//EN
METHOD:PUBLISH
X-PUBLISHED-TTL:P3D
REFRESH-INTERVAL:P3D
CALSCALE:GREGORIAN
BEGIN:VEVENT
DTSTART:20191102T230000Z
DTEND:20191103T020000Z
X-MICROSOFT-CDO-ALLDAYEVENT:FALSE
SUMMARY:Weslaco Museum Pan de Campo
DESCRIPTION:The Weslaco Museum is proud to announce the upcoming fundraising event: Pan De Campo\n\n\n\n*Sponsorships available*\n\n\n\nEnjoy brisket\, peach cobbler\, music\, wine\, entertainment\, and much more! All in the spirit of helping The Weslaco Museum continue to serve our wonderful community. \n\n\n\nFor more information call The Weslaco Museum at (956) 968-9142\n\nor email: director@@weslacomuseum.org
X-ALT-DESC;FMTTYPE=text/html:<span style="color: rgb(29\, 33\, 41)\; font-family: Helvetica\, Arial\, sans-serif\; font-size: 14px\; white-space: pre-wrap\;">The Weslaco Museum is proud to announce the upcoming fundraising event: Pan De Campo</span><br style="color: rgb(29\, 33\, 41)\; font-family: Helvetica\, Arial\, sans-serif\; font-size: 14px\; white-space: pre-wrap\;" />\n<br style="color: rgb(29\, 33\, 41)\; font-family: Helvetica\, Arial\, sans-serif\; font-size: 14px\; white-space: pre-wrap\;" />\n<span style="color: rgb(29\, 33\, 41)\; font-family: Helvetica\, Arial\, sans-serif\; font-size: 14px\; white-space: pre-wrap\;">*Sponsorships available*</span><br style="color: rgb(29\, 33\, 41)\; font-family: Helvetica\, Arial\, sans-serif\; font-size: 14px\; white-space: pre-wrap\;" />\n<br style="color: rgb(29\, 33\, 41)\; font-family: Helvetica\, Arial\, sans-serif\; font-size: 14px\; white-space: pre-wrap\;" />\n<span style="color: rgb(29\, 33\, 41)\; font-family: Helvetica\, Arial\, sans-serif\; font-size: 14px\; white-space: pre-wrap\;">Enjoy brisket\, peach cobbler\, music\, wine\, entertainment\, and much more! All in the spirit of helping The Weslaco Museum continue to serve our wonderful community. </span><br style="color: rgb(29\, 33\, 41)\; font-family: Helvetica\, Arial\, sans-serif\; font-size: 14px\; white-space: pre-wrap\;" />\n<br style="color: rgb(29\, 33\, 41)\; font-family: Helvetica\, Arial\, sans-serif\; font-size: 14px\; white-space: pre-wrap\;" />\n<span style="color: rgb(29\, 33\, 41)\; font-family: Helvetica\, Arial\, sans-serif\; font-size: 14px\; white-space: pre-wrap\;">For more information call The Weslaco Museum at (956) 968-9142</span><br style="color: rgb(29\, 33\, 41)\; font-family: Helvetica\, Arial\, sans-serif\; font-size: 14px\; white-space: pre-wrap\;" />\n<span style="color: rgb(29\, 33\, 41)\; font-family: Helvetica\, Arial\, sans-serif\; font-size: 14px\; white-space: pre-wrap\;">or email: director@@</span><a data-lynx-mode="hover" data-lynx-uri="https://l.facebook.com/l.php?u=http%3A%2F%2Fweslacomuseum.org%2F%3Ffbclid%3DIwAR0kev-daDWr5ZyOubwOOpVRTsytss6o8-6GvxIalHS0uaxkStpSDRUQgSw&amp\;h=AT12aYuC37CF-UC3XKl5VvIl63Ka2-7daC-pmmyPbv3iLvAM75LTmzqf7JIIfw6OFDWMeMt9P_5U-jnIgNgPcawxa-5ICL4eHwL52HFtRPoRYVLP-qQ8f7Z8Uat7WDNhig" href="http://weslacomuseum.org/?fbclid=IwAR0kev-daDWr5ZyOubwOOpVRTsytss6o8-6GvxIalHS0uaxkStpSDRUQgSw" rel="nofollow noopener" style="color: rgb(56\, 88\, 152)\; cursor: pointer\; text-decoration-line: none\; font-family: Helvetica\, Arial\, sans-serif\; font-size: 14px\; white-space: pre-wrap\;" target="_blank">weslacomuseum.org</a>
LOCATION:Weslaco Museum 500 S. Texas Blvd.
UID:e.1244.18789
SEQUENCE:3
DTSTAMP:20260420T012759Z
URL:https://business.weslaco.com/events/details/weslaco-museum-pan-de-campo-18789
END:VEVENT

END:VCALENDAR
