BEGIN:VCALENDAR
VERSION:2.0
PRODID:-//ChamberMaster//Event Calendar 2.0//EN
METHOD:PUBLISH
X-PUBLISHED-TTL:P3D
REFRESH-INTERVAL:P3D
CALSCALE:GREGORIAN
BEGIN:VEVENT
DTSTART:20151017T230000Z
DTEND:20151018T030000Z
X-MICROSOFT-CDO-ALLDAYEVENT:FALSE
SUMMARY:Weslaco Museum Pan de Campo Fundraiser
DESCRIPTION:It's the Weslaco Museum's 12th annual Pan de Campo event! Enjoy delicious food\, silent auction\, and live entertainment.  All proceeds go towards the Weslaco Museum.
X-ALT-DESC;FMTTYPE=text/html:It&#39\;s the&nbsp\;Weslaco Museum&#39\;s 12th annual Pan de Campo event! Enjoy delicious food\, silent auction\, and live entertainment. &nbsp\;All proceeds go towards the Weslaco Museum.
LOCATION:Business Visitor & Event Center 275 S. Kansas
UID:e.1244.8743
SEQUENCE:3
DTSTAMP:20260423T095621Z
URL:https://business.weslaco.com/events/details/weslaco-museum-pan-de-campo-fundraiser-10-17-2015-8743
END:VEVENT

END:VCALENDAR
