BEGIN:VCALENDAR
VERSION:2.0
PRODID:-//ChamberMaster//Event Calendar 2.0//EN
METHOD:PUBLISH
X-PUBLISHED-TTL:P3D
REFRESH-INTERVAL:P3D
CALSCALE:GREGORIAN
BEGIN:VEVENT
DTSTART:20141019T000000Z
DTEND:20141019T040000Z
X-MICROSOFT-CDO-ALLDAYEVENT:FALSE
SUMMARY:Weslaco Museum Pan de Campo Fundraiser
DESCRIPTION:It's the Weslaco Museum's 11th annual Pan de Campo event! Enjoy delicious food\, silent auction\, and live entertainment.  All proceeds go towards the Weslaco Museum.
X-ALT-DESC;FMTTYPE=text/html:It&#39\;s the&nbsp\;Weslaco Museum&#39\;s 11th annual Pan de Campo event! Enjoy delicious food\, silent auction\, and live entertainment. &nbsp\;All proceeds go towards the Weslaco Museum.
LOCATION:Business Visitor & Event Center 275 S. Kanas
UID:e.1244.5955
SEQUENCE:3
DTSTAMP:20260424T051423Z
URL:https://business.weslaco.com/events/details/weslaco-museum-pan-de-campo-fundraiser-10-18-2014-5955
END:VEVENT

END:VCALENDAR
