BEGIN:VCALENDAR
VERSION:2.0
PRODID:-//ChamberMaster//Event Calendar 2.0//EN
METHOD:PUBLISH
X-PUBLISHED-TTL:P3D
REFRESH-INTERVAL:P3D
CALSCALE:GREGORIAN
BEGIN:VEVENT
DTSTART:20131117T020000Z
DTEND:20131117T060000Z
X-MICROSOFT-CDO-ALLDAYEVENT:FALSE
SUMMARY:Weslaco Museum Pan de Campo Fundraiser
DESCRIPTION:It's Weslaco Museum's annual Pan de Campo event! Enjoy delicious food\, silent auction\, and live entertainment.  All proceeds go towards the Weslaco Museum.
X-ALT-DESC;FMTTYPE=text/html:It&#39\;s Weslaco Museum&#39\;s annual Pan de Campo event! Enjoy delicious food\, silent auction\, and live entertainment. &nbsp\;All proceeds go towards the Weslaco Museum.
LOCATION:Weslaco Museum 500 S. Texas
UID:e.1244.4774
SEQUENCE:3
DTSTAMP:20260425T005239Z
URL:https://business.weslaco.com/events/details/weslaco-museum-pan-de-campo-fundraiser-11-16-2013-4774
END:VEVENT

END:VCALENDAR
