BEGIN:VCALENDAR
VERSION:2.0
PRODID:-//ChamberMaster//Event Calendar 2.0//EN
METHOD:PUBLISH
X-PUBLISHED-TTL:P3D
REFRESH-INTERVAL:P3D
CALSCALE:GREGORIAN
BEGIN:VEVENT
DTSTART:20180726T230000Z
DTEND:20180727T010000Z
X-MICROSOFT-CDO-ALLDAYEVENT:FALSE
SUMMARY:Weslaco Museum Portrait Embroidery Workshop
DESCRIPTION:Come join The Weslaco Museum for the most adorable craft class we've ever hosted! Local artist Audrey Cisneros will be teaching us how to embroider portraits of our favorite pets! Have a special cat you want to immortalize? Know a certain dog who deserves a commissioned piece? Make them something special and learn a new skill while you're at it!\n\n\n\nOur Pet Portrait Embroidery Workshop will be Thursday\, July 26\, from 6pm to 8pm. Tickets are $30 per person\, but $25 for members. Please note there are only 15 spots available!\n\n\n\nFood and wine will be served. Materials are provided\, including cloth\, embroidery hoops\, needles\, and floss. Make sure RSVP through this link and upload to a good\, clear picture of your Peewee\, Chewbacca\, or Tiger:\n\n\n\nhttps://goo.gl/forms/fPl5gpWA9Jwcge642\n\n\n\nFor more information please call (956) 968.9142 or email director@weslacomuseum.org
X-ALT-DESC;FMTTYPE=text/html:<span>Come join The Weslaco Museum for the most adorable craft class we&#39\;ve ever hosted! Local artist Audrey Cisneros will be teaching us how to embroider portraits of our favorite pets! Have a special cat you want to immortalize? Know a certain dog who deserves a commissioned piece? Make them something special and learn a new skill while you&#39\;re at it!<br />\n<br />\nOur Pet Portrait Embroidery Workshop will be Thursday\, July 26\, from 6pm to 8pm. Tickets are $30 per person\, but $25 for members. Please note there are only 15 spots available!<br />\n<br />\nFood and wine will be served. Materials are provided\, including cloth\, embroidery hoops\, needles\, and floss. Make sure RSVP through this link and upload to a good\, clear picture of your Peewee\, Chewbacca\, or Tiger:<br />\n<br />\n<a data-lynx-mode="hover" data-lynx-uri="https://l.facebook.com/l.php?u=https%3A%2F%2Fgoo.gl%2Fforms%2FfPl5gpWA9Jwcge642&amp\;h=AT2Wsq7P8u6OYYqeHsIojecxN5hJpXu942rJagkYc4BYJe8Z6d8NxOmthp69HSDBk7G7pz1BKIoN7HFodNDJC88lkf_QhTDp5KO-LTyluSHqPz2QQ5mKGY9D8qdsOpmLvg" href="https://goo.gl/forms/fPl5gpWA9Jwcge642" rel="nofollow noopener" target="_blank">https://goo.gl/forms/fPl5gpWA9Jwcge642</a><br />\n<br />\nFor more information please call (956) 968.9142 or email director@weslacomuseum.org</span>
LOCATION:Weslaco Museum 500 S. Texas
UID:e.1244.16951
SEQUENCE:3
DTSTAMP:20260421T043918Z
URL:https://business.weslaco.com/events/details/weslaco-museum-portrait-embroidery-workshop-16951
END:VEVENT

END:VCALENDAR
