BEGIN:VCALENDAR
VERSION:2.0
PRODID:-//ChamberMaster//Event Calendar 2.0//EN
METHOD:PUBLISH
X-PUBLISHED-TTL:P3D
REFRESH-INTERVAL:P3D
CALSCALE:GREGORIAN
BEGIN:VEVENT
DTSTART:20160227T200000Z
DTEND:20160227T210000Z
X-MICROSOFT-CDO-ALLDAYEVENT:FALSE
SUMMARY:Weslaco Museum Presentation - "All About Flags"
DESCRIPTION:U.S. and Texas Flags - Their History and Importance\n\nCome visit the museum for a fun and educational experience.  Learn about the history of flags\, the different parts of a flag\, flag etiquette\, and how flags have played a role in our country and state.  Create your own unique flag to represent the city of Weslaco.
X-ALT-DESC;FMTTYPE=text/html:U.S. and Texas Flags - Their History and Importance<br />\nCome visit the museum for a fun and educational experience.&nbsp\; Learn about the history of flags\, the different parts of a flag\, flag etiquette\, and how flags have played a role in our country and state.&nbsp\; Create your own unique flag to represent the city of Weslaco.&nbsp\;<br />\n&nbsp\;
LOCATION:Weslaco Museum 500 S. Texas Blvd.
UID:e.1244.9126
SEQUENCE:3
DTSTAMP:20260423T040229Z
URL:https://business.weslaco.com/events/details/weslaco-museum-presentation-all-about-flags-02-27-2016-9126
END:VEVENT

END:VCALENDAR
