BEGIN:VCALENDAR
VERSION:2.0
PRODID:-//ChamberMaster//Event Calendar 2.0//EN
METHOD:PUBLISH
X-PUBLISHED-TTL:P3D
REFRESH-INTERVAL:P3D
CALSCALE:GREGORIAN
BEGIN:VEVENT
DTSTART:20180120T200000Z
DTEND:20180120T210000Z
X-MICROSOFT-CDO-ALLDAYEVENT:FALSE
SUMMARY:Weslaco Museum Presentation: Ranch Life in the 1800's
DESCRIPTION:"Ranch Life in Hidalgo County after 1850" presented by Emilia Schunior Ramirez.
X-ALT-DESC;FMTTYPE=text/html:&quot\;Ranch Life in Hidalgo County after 1850&quot\; presented by Emilia Schunior Ramirez.
LOCATION:Weslaco Museum 500 S. Texas
UID:e.1244.14531
SEQUENCE:3
DTSTAMP:20260421T160404Z
URL:https://business.weslaco.com/events/details/weslaco-museum-presentation-ranch-life-in-the-1800-s-14531
END:VEVENT

END:VCALENDAR
