BEGIN:VCALENDAR
VERSION:2.0
PRODID:-//ChamberMaster//Event Calendar 2.0//EN
METHOD:PUBLISH
X-PUBLISHED-TTL:P3D
REFRESH-INTERVAL:P3D
CALSCALE:GREGORIAN
BEGIN:VEVENT
DTSTART:20141217T200000Z
DTEND:20141217T220000Z
X-MICROSOFT-CDO-ALLDAYEVENT:FALSE
SUMMARY:Weslaco Museum Presentation - "Rio Rico - One Town\, Two Countries and the 'Lost' Americans"
DESCRIPTION:Presenter: Joe Vidales\, Weslaco Museum Board Member\n\nBefore there were Progreso and Nuevo Progreso\, there were Thayer\, Texas and Rio Rico\, Mexico near the Mercedes Pumps.  For ten cents people could buy a ticket to cross the bridge to Rio Rico. Mexico to gamble\, drink\, and  watch the dogs run during U. S. Prohibition Days.  Learn how little Rio Rico was part of Mexico\, then part of the U. S. and again part of Mexico.  Presentation is free to the public.
X-ALT-DESC;FMTTYPE=text/html:<span style="font-size:14px\;"><span style="font-family:arial\;"><span style="color:black\;">Presenter: Joe Vidales\, Weslaco Museum Board Member<br />\nBefore there were Progreso and Nuevo Progreso\, there were Thayer\, Texas and Rio Rico\, Mexico near the Mercedes Pumps. &nbsp\;For ten cents people could buy a ticket to cross the bridge to Rio Rico. Mexico to gamble\, drink\, and&nbsp\; watch the dogs run during U. S. Prohibition Days. &nbsp\;Learn how little Rio Rico was part of Mexico\, then part of the U. S. and again part of Mexico.&nbsp\; Presentation is free to the public.</span></span></span>
LOCATION:Weslaco Museum 500 S. Texas
UID:e.1244.6012
SEQUENCE:3
DTSTAMP:20260424T021230Z
URL:https://business.weslaco.com/events/details/weslaco-museum-presentation-rio-rico-one-town-two-countries-and-the-lost-americans-12-17-2014-6012
END:VEVENT

END:VCALENDAR
