BEGIN:VCALENDAR
VERSION:2.0
PRODID:-//ChamberMaster//Event Calendar 2.0//EN
METHOD:PUBLISH
X-PUBLISHED-TTL:P3D
REFRESH-INTERVAL:P3D
CALSCALE:GREGORIAN
BEGIN:VEVENT
DTSTART:20190105T200000Z
DTEND:20190105T220000Z
X-MICROSOFT-CDO-ALLDAYEVENT:FALSE
SUMMARY:Weslaco Museum Presentation - "Rio Rico - One Town\, Two Countries and the 'Lost' Americans"
DESCRIPTION:Back by popular demand\, The Weslaco Museum is excited announce a presentation on Rio Rico by Joe Vidales. Rio Rico was a part of Mexico\, then the United States\, and again a part of Mexico. But what of its people? Some of the residents of Rio Rico were born citizens of the United States\, who then were "lost" to Mexico. The changes that occured went unnoticed for decades. Learn what happened in 1906 and who was ultimately responsible for these changes in nationality.\n\n\n\nAdmission is $2.00 per person\, available at the time of the lecture.
X-ALT-DESC;FMTTYPE=text/html:<span>Back by popular demand\, <a href="https://www.facebook.com/TheWeslacoMuseum/" target="_blank">The Weslaco Museum</a> is excited announce a presentation on Rio Rico by Joe Vidales. Rio Rico was a part of Mexico\, then the United States\, and again a part of Mexico. But what of its people? Some of the residents of Rio Rico were born citizens of the United States\, who then were &quot\;lost&quot\; to Mexico. The changes that occured went unnoticed for decades. Learn what happened in 1906 and who was ultimately responsible for these changes in nationality.<br />\n<br />\nAdmission is $2.00 per person\, available at the time of the lecture.</span>
LOCATION:Weslaco Museum 500 S. Texas
UID:e.1244.17044
SEQUENCE:3
DTSTAMP:20260420T180208Z
URL:https://business.weslaco.com/events/details/weslaco-museum-presentation-rio-rico-one-town-two-countries-and-the-lost-americans-17044
END:VEVENT

END:VCALENDAR
