BEGIN:VCALENDAR
VERSION:2.0
PRODID:-//ChamberMaster//Event Calendar 2.0//EN
METHOD:PUBLISH
X-PUBLISHED-TTL:P3D
REFRESH-INTERVAL:P3D
CALSCALE:GREGORIAN
BEGIN:VEVENT
DTSTART:20160122T003000Z
DTEND:20160122T013000Z
X-MICROSOFT-CDO-ALLDAYEVENT:FALSE
SUMMARY:Weslaco Museum Reception
DESCRIPTION:The Weslaco Museum of Local History and Cultural Art is hosting a reception in honor of the new Executive Director Mr. Wade Marcum\, and the new Assistant Director Mrs. Elaine Wisely. Free and open to the public.
X-ALT-DESC;FMTTYPE=text/html:<span style="font-size:14px\;"><span style="font-family:arial\;">The Weslaco Museum of Local History and Cultural Art is hosting a reception in honor of the new Executive Director Mr. Wade Marcum\, and the new Assistant Director Mrs. Elaine Wisely. Free and open to the public.</span></span>
LOCATION:Weslaco Museum 500 S.Texas
UID:e.1244.9096
SEQUENCE:3
DTSTAMP:20260423T052201Z
URL:https://business.weslaco.com/events/details/weslaco-museum-reception-01-21-2016-9096
END:VEVENT

END:VCALENDAR
