BEGIN:VCALENDAR
VERSION:2.0
PRODID:-//ChamberMaster//Event Calendar 2.0//EN
METHOD:PUBLISH
X-PUBLISHED-TTL:P3D
REFRESH-INTERVAL:P3D
CALSCALE:GREGORIAN
BEGIN:VEVENT
DTSTART:20160312T200000Z
DTEND:20160312T210000Z
X-MICROSOFT-CDO-ALLDAYEVENT:FALSE
SUMMARY:Weslaco Museum Saturday Lecture
DESCRIPTION:From Flintock to Rapid Fire: An Overview of American History by Examining Small Arms
X-ALT-DESC;FMTTYPE=text/html:From Flintock to Rapid Fire: An Overview of American History by Examining Small Arms
LOCATION:Weslaco Museum 500 S. Texas
UID:e.1244.9077
SEQUENCE:3
DTSTAMP:20260423T035621Z
URL:https://business.weslaco.com/events/details/weslaco-museum-saturday-lecture-03-12-2016-9077
END:VEVENT

END:VCALENDAR
