BEGIN:VCALENDAR
VERSION:2.0
PRODID:-//ChamberMaster//Event Calendar 2.0//EN
METHOD:PUBLISH
X-PUBLISHED-TTL:P3D
REFRESH-INTERVAL:P3D
CALSCALE:GREGORIAN
BEGIN:VEVENT
DTSTART:20151219T200000Z
DTEND:20151219T210000Z
X-MICROSOFT-CDO-ALLDAYEVENT:FALSE
SUMMARY:Weslaco Museum Saturday Lecture
DESCRIPTION:Rio Rico: One Town-Two Countries and the "Lost Americans"
X-ALT-DESC;FMTTYPE=text/html:Rio Rico: One Town-Two Countries and the &quot\;Lost Americans&quot\;
LOCATION:Weslaco Museum 500 S. Texas Blvd.
UID:e.1244.8761
SEQUENCE:3
DTSTAMP:20260423T070814Z
URL:https://business.weslaco.com/events/details/weslaco-museum-saturday-lecture-12-19-2015-8761
END:VEVENT

END:VCALENDAR
