BEGIN:VCALENDAR
VERSION:2.0
PRODID:-//ChamberMaster//Event Calendar 2.0//EN
METHOD:PUBLISH
X-PUBLISHED-TTL:P3D
REFRESH-INTERVAL:P3D
CALSCALE:GREGORIAN
BEGIN:VEVENT
DTSTART:20180217T200000Z
DTEND:20180217T210000Z
X-MICROSOFT-CDO-ALLDAYEVENT:FALSE
SUMMARY:Weslaco Museum Saturday Lecture
DESCRIPTION:Tejano Heroes presented by Mr. Jack Ayoub.  Local Historian Jack Ayoub will be giving a presentation discussing the influential Tejano participants in the Texas Revolution.  Learn about the lives of these important native Texans and how they shaped the creation of our great state.\n\nCrockett\, Bowie\, Travis\, and Bonham are recognized heroes of Texas Independence. As important in the fight for independence were Antonio Navarro\, Francisco Ruiz\, and Antonio Menchaca.
X-ALT-DESC;FMTTYPE=text/html:Tejano Heroes presented by Mr. Jack Ayoub. &nbsp\;Local Historian Jack Ayoub will be giving a presentation discussing the influential Tejano participants in the Texas Revolution.&nbsp\; Learn about the lives of these important native Texans and how they shaped the creation of our great state.<br />\nCrockett\, Bowie\, Travis\, and Bonham are recognized heroes of Texas Independence. As important in the fight for independence were Antonio Navarro\, Francisco Ruiz\, and Antonio Menchaca.<br />\n&nbsp\;
LOCATION:Weslaco Museum 500 S. Texas
UID:e.1244.15749
SEQUENCE:3
DTSTAMP:20260421T125108Z
URL:https://business.weslaco.com/events/details/weslaco-museum-saturday-lecture-15749
END:VEVENT

END:VCALENDAR
