BEGIN:VCALENDAR
VERSION:2.0
PRODID:-//ChamberMaster//Event Calendar 2.0//EN
METHOD:PUBLISH
X-PUBLISHED-TTL:P3D
REFRESH-INTERVAL:P3D
CALSCALE:GREGORIAN
BEGIN:VEVENT
DTSTART:20190413T190000Z
DTEND:20190413T210000Z
X-MICROSOFT-CDO-ALLDAYEVENT:FALSE
SUMMARY:Weslaco Museum Saturday Lecture
DESCRIPTION:"The Science of Nutritional Foods for Health" presented by Dr. Ben Villalon
X-ALT-DESC;FMTTYPE=text/html:<span style="font-size: 14px\;">&ldquo\;The Science of Nutritional Foods for Health&rdquo\; presented by Dr. Ben Villalon</span>
LOCATION:Weslaco Museum 500 S. Texas Blvd.
UID:e.1244.18058
SEQUENCE:3
DTSTAMP:20260420T145732Z
URL:https://business.weslaco.com/events/details/weslaco-museum-saturday-lecture-18058
END:VEVENT

END:VCALENDAR
