BEGIN:VCALENDAR
VERSION:2.0
PRODID:-//ChamberMaster//Event Calendar 2.0//EN
METHOD:PUBLISH
X-PUBLISHED-TTL:P3D
REFRESH-INTERVAL:P3D
CALSCALE:GREGORIAN
BEGIN:VEVENT
DTSTART:20190817T190000Z
DTEND:20190817T200000Z
X-MICROSOFT-CDO-ALLDAYEVENT:FALSE
SUMMARY:Weslaco Museum Saturday Lecture
DESCRIPTION:The Weslaco Migrant Labor Camp\, " El Campito\," was built in 1939\, at a cost $250\,000. It provided housing for many families\, and still does. Why was it built? How did it help change people's lives. Come hear the story of this 80 year-old historic site on Saturday.\n\nWeslaco Museum's Saturday Afternoon Lecture Series at 2 pm\, August 17. Presented by Joe Vidales. Admission $2\, members free.
X-ALT-DESC;FMTTYPE=text/html:<p style="margin-bottom:4.5pt\;background:white"><span style="font-size:10.5pt\;\nfont-family:&quot\;Helvetica&quot\;\,sans-serif\;color:#1C1E21">The Weslaco Migrant Labor Camp\, &quot\; El Campito\,&quot\; was built in 1939\, at a cost $250\,000. It provided housing for many families\, and still does. Why was it built? How did it help change people&#39\;s lives. Come hear the story of this 80 year-old historic site on Saturday.<o:p></o:p></span></p>\n\n<p style="margin-top:4.5pt\;background:white"><span style="font-size:10.5pt\;\nfont-family:&quot\;Helvetica&quot\;\,sans-serif\;color:#1C1E21">Weslaco Museum&#39\;s Saturday Afternoon Lecture Series at 2 pm\, August 17. Presented by Joe Vidales. Admission $2\, members free.<o:p></o:p></span></p>\n
LOCATION:500 S. Texas Blvd. Weslaco
UID:e.1244.18729
SEQUENCE:3
DTSTAMP:20260420T062300Z
URL:https://business.weslaco.com/events/details/weslaco-museum-saturday-lecture-18729
END:VEVENT

END:VCALENDAR
