BEGIN:VCALENDAR
VERSION:2.0
PRODID:-//ChamberMaster//Event Calendar 2.0//EN
METHOD:PUBLISH
X-PUBLISHED-TTL:P3D
REFRESH-INTERVAL:P3D
CALSCALE:GREGORIAN
BEGIN:VEVENT
DTSTART:20190914T190000Z
DTEND:20190914T200000Z
X-MICROSOFT-CDO-ALLDAYEVENT:FALSE
SUMMARY:Weslaco Museum Saturday Lecture
DESCRIPTION:"The History of Weslaco" presented by Joe Vidales
X-ALT-DESC;FMTTYPE=text/html:&quot\;The History of Weslaco&quot\; presented by Joe Vidales
LOCATION:Weslaco Museum 500 S. Texas
UID:e.1244.18764
SEQUENCE:3
DTSTAMP:20260420T044011Z
URL:https://business.weslaco.com/events/details/weslaco-museum-saturday-lecture-18764
END:VEVENT

END:VCALENDAR
