BEGIN:VCALENDAR
VERSION:2.0
PRODID:-//ChamberMaster//Event Calendar 2.0//EN
METHOD:PUBLISH
X-PUBLISHED-TTL:P3D
REFRESH-INTERVAL:P3D
CALSCALE:GREGORIAN
BEGIN:VEVENT
DTSTART:20191026T190000Z
DTEND:20191026T200000Z
X-MICROSOFT-CDO-ALLDAYEVENT:FALSE
SUMMARY:Weslaco Museum Saturday Lecture
DESCRIPTION:"Halloween: Ghosts\, Myths and Legends"
X-ALT-DESC;FMTTYPE=text/html:&quot\;Halloween: Ghosts\, Myths and Legends&quot\;
LOCATION:Weslaco Museum 500 S. Texas
UID:e.1244.18768
SEQUENCE:3
DTSTAMP:20260420T025522Z
URL:https://business.weslaco.com/events/details/weslaco-museum-saturday-lecture-18768
END:VEVENT

END:VCALENDAR
