BEGIN:VCALENDAR
VERSION:2.0
PRODID:-//ChamberMaster//Event Calendar 2.0//EN
METHOD:PUBLISH
X-PUBLISHED-TTL:P3D
REFRESH-INTERVAL:P3D
CALSCALE:GREGORIAN
BEGIN:VEVENT
DTSTART:20191109T200000Z
DTEND:20191109T210000Z
X-MICROSOFT-CDO-ALLDAYEVENT:FALSE
SUMMARY:Weslaco Museum Saturday Lecture
DESCRIPTION:The Greatest Football Team in Texas presented by Dr. Joe Chance
X-ALT-DESC;FMTTYPE=text/html:The Greatest Football Team in Texas presented by Dr. Joe Chance
LOCATION:Weslaco Museum 500 S. Texas
UID:e.1244.18820
SEQUENCE:3
DTSTAMP:20260420T031502Z
URL:https://business.weslaco.com/events/details/weslaco-museum-saturday-lecture-18820
END:VEVENT

END:VCALENDAR
