BEGIN:VCALENDAR
VERSION:2.0
PRODID:-//ChamberMaster//Event Calendar 2.0//EN
METHOD:PUBLISH
X-PUBLISHED-TTL:P3D
REFRESH-INTERVAL:P3D
CALSCALE:GREGORIAN
BEGIN:VEVENT
DTSTART:20200118T200000Z
DTEND:20200118T210000Z
X-MICROSOFT-CDO-ALLDAYEVENT:FALSE
SUMMARY:Weslaco Museum Saturday Lecture
DESCRIPTION:El Campito Migrant Labor Camp presented by Joe Vidales
X-ALT-DESC;FMTTYPE=text/html:El Campito Migrant Labor Camp presented by Joe Vidales
LOCATION:Weslaco Museum 500 S. Texas
UID:e.1244.19068
SEQUENCE:3
DTSTAMP:20260419T214937Z
URL:https://business.weslaco.com/events/details/weslaco-museum-saturday-lecture-19068
END:VEVENT

END:VCALENDAR
