BEGIN:VCALENDAR
VERSION:2.0
PRODID:-//ChamberMaster//Event Calendar 2.0//EN
METHOD:PUBLISH
X-PUBLISHED-TTL:P3D
REFRESH-INTERVAL:P3D
CALSCALE:GREGORIAN
BEGIN:VEVENT
DTSTART:20160123T200000Z
DTEND:20160123T210000Z
X-MICROSOFT-CDO-ALLDAYEVENT:FALSE
SUMMARY:Weslaco Museum Saturday Lecture - Sugar Cane in the Valley
DESCRIPTION:
X-ALT-DESC;FMTTYPE=text/html:
LOCATION:Weslaco Museum 500 S. Texas Blvd.
UID:e.1244.9074
SEQUENCE:3
DTSTAMP:20260423T054114Z
URL:https://business.weslaco.com/events/details/weslaco-museum-saturday-lecture-sugar-cane-in-the-valley-01-23-2016-9074
END:VEVENT

END:VCALENDAR
