BEGIN:VCALENDAR
VERSION:2.0
PRODID:-//ChamberMaster//Event Calendar 2.0//EN
METHOD:PUBLISH
X-PUBLISHED-TTL:P3D
REFRESH-INTERVAL:P3D
CALSCALE:GREGORIAN
BEGIN:VEVENT
DTSTART:20160214T000000Z
DTEND:20160214T020000Z
X-MICROSOFT-CDO-ALLDAYEVENT:FALSE
SUMMARY:Weslaco Museum Valentine Dinner Fundraiser
DESCRIPTION:Come enjoy a Valentine evening of dining and music in a historical ambiance.  Find yourself surrounded by war heroes or in Old Mexico.  You might even dine in a "one room" school house.  Menu will include: choice steak or grilled chicken breast\, baked potato with all the trimmings\, fresh green salad\, dessert\, coffee/tea and water. If you enjoy wine with your meal\, please bring your favorite bottle.
X-ALT-DESC;FMTTYPE=text/html:Come enjoy a Valentine evening of dining and music in a historical ambiance. &nbsp\;Find yourself surrounded by war heroes or in Old Mexico. &nbsp\;You might even dine in a &quot\;one room&quot\; school house. &nbsp\;Menu will include: choice steak or grilled chicken breast\, baked potato with all the trimmings\, fresh green salad\, dessert\, coffee/tea and water. If you enjoy wine with your meal\, please bring your favorite bottle.&nbsp\;
LOCATION:Weslaco Museum 500 S. Texas
UID:e.1244.9114
SEQUENCE:3
DTSTAMP:20260423T040515Z
URL:https://business.weslaco.com/events/details/weslaco-museum-valentine-dinner-fundraiser-02-13-2016-9114
END:VEVENT

END:VCALENDAR
