BEGIN:VCALENDAR
VERSION:2.0
PRODID:-//ChamberMaster//Event Calendar 2.0//EN
METHOD:PUBLISH
X-PUBLISHED-TTL:P3D
REFRESH-INTERVAL:P3D
CALSCALE:GREGORIAN
BEGIN:VEVENT
DTSTART:20210331T160000Z
DTEND:20210331T170000Z
X-MICROSOFT-CDO-ALLDAYEVENT:FALSE
SUMMARY:Weslaco Networking Blitzr
DESCRIPTION:Join us for 1 to 1 Virtual Conversations in a speed networking style event! \n\n\n\nPromote your business easily\, quickly and effectively from anywhere!
X-ALT-DESC;FMTTYPE=text/html:Join us for 1 to 1 Virtual Conversations in a speed networking style event!&nbsp\;<br />\n<br />\nPromote your business easily\, quickly and effectively from anywhere!
LOCATION:How to Blitzr: https://blitzr.com/howtoblitz Register Now: https://blitzr.com/event/3379/1949
UID:e.1244.19556
SEQUENCE:3
DTSTAMP:20260422T150853Z
URL:https://business.weslaco.com/events/details/weslaco-networking-blitzr-19556
END:VEVENT

END:VCALENDAR
