BEGIN:VCALENDAR
VERSION:2.0
PRODID:-//ChamberMaster//Event Calendar 2.0//EN
METHOD:PUBLISH
X-PUBLISHED-TTL:P3D
REFRESH-INTERVAL:P3D
CALSCALE:GREGORIAN
BEGIN:VEVENT
DTSTART:20141016T223000Z
DTEND:20141017T010000Z
X-MICROSOFT-CDO-ALLDAYEVENT:FALSE
SUMMARY:Weslaco Nursing and Rehab 10th Anniversary Celebration
DESCRIPTION:Enjoy spirits and hors d' oeuvres as Weslaco Nursing and Rehab celebrates 10 years!  Door prizes will be awarded throughout the night.\n\n \n\nRSVP by October 6th to Marcy Rodriguez
X-ALT-DESC;FMTTYPE=text/html:<p>Enjoy spirits and hors d&#39\; oeuvres as Weslaco&nbsp\;Nursing and Rehab celebrates 10 years! &nbsp\;Door prizes will be awarded throughout the night.</p>\n\n<p>&nbsp\;</p>\n\n<p>RSVP by October 6th to Marcy Rodriguez</p>\n
LOCATION:422 E. 18th St. Weslaco\, TX 78596
UID:e.1244.5965
SEQUENCE:3
DTSTAMP:20260424T051732Z
URL:https://business.weslaco.com/events/details/weslaco-nursing-and-rehab-10th-anniversary-celebration-10-16-2014-5965
END:VEVENT

END:VCALENDAR
