BEGIN:VCALENDAR
VERSION:2.0
PRODID:-//ChamberMaster//Event Calendar 2.0//EN
METHOD:PUBLISH
X-PUBLISHED-TTL:P3D
REFRESH-INTERVAL:P3D
CALSCALE:GREGORIAN
BEGIN:VEVENT
DTSTART:20131030T210000Z
DTEND:20131031T000000Z
X-MICROSOFT-CDO-ALLDAYEVENT:FALSE
SUMMARY:Weslaco Nursing and Rehab Fall Festival
DESCRIPTION:Enjoy moon jumps\, hay rides\, karaoke\, games\, car show\, food and costume contest!  Free to the public.  422 E. 18th St.  For more information\, call 973-8451.
X-ALT-DESC;FMTTYPE=text/html:<span style="font-size:12px\;"><span style="font-family:calibri\;">Enjoy moon jumps\, hay rides\, karaoke\, games\, car show\, food and costume contest!&nbsp\;&nbsp\;Free to the public.&nbsp\; 422 E. 18th St.&nbsp\; For more information\, call 973-8451.</span></span><br />\n&nbsp\;<br />\n
LOCATION:Weslaco Nursing and Rehabilitation 422 E. 18th St.
UID:e.1244.4786
SEQUENCE:3
DTSTAMP:20260425T025010Z
URL:https://business.weslaco.com/events/details/weslaco-nursing-and-rehab-fall-festival-10-30-2013-4786
END:VEVENT

END:VCALENDAR
