BEGIN:VCALENDAR
VERSION:2.0
PRODID:-//ChamberMaster//Event Calendar 2.0//EN
METHOD:PUBLISH
X-PUBLISHED-TTL:P3D
REFRESH-INTERVAL:P3D
CALSCALE:GREGORIAN
BEGIN:VEVENT
DTSTART:20171102T220000Z
DTEND:20171103T000000Z
X-MICROSOFT-CDO-ALLDAYEVENT:FALSE
SUMMARY:Weslaco Nursing and Rehabilitation Center Ribbon Cutting
DESCRIPTION:Celebrating the new remodels at Weslaco Nursing and Rehab!
X-ALT-DESC;FMTTYPE=text/html:Celebrating the new remodels at Weslaco Nursing and Rehab!
LOCATION:422 E. 18th Street Weslaco\, TX
UID:e.1244.14428
SEQUENCE:3
DTSTAMP:20260421T190808Z
URL:https://business.weslaco.com/events/details/weslaco-nursing-and-rehabilitation-center-ribbon-cutting-14428
END:VEVENT

END:VCALENDAR
