BEGIN:VCALENDAR
VERSION:2.0
PRODID:-//ChamberMaster//Event Calendar 2.0//EN
METHOD:PUBLISH
X-PUBLISHED-TTL:P3D
REFRESH-INTERVAL:P3D
CALSCALE:GREGORIAN
BEGIN:VEVENT
DTSTART:20190914T140000Z
DTEND:20190914T163000Z
X-MICROSOFT-CDO-ALLDAYEVENT:FALSE
SUMMARY:Weslaco Open House - Charming 3BR 2.5BA
DESCRIPTION:This impressive\, two-story home offers three bedrooms\, two baths and a half baths and captivating interior space\, and a second living area on the second floor.\n\n.\n\nPerfect for entertaining enjoy a family room formal living and dining.\n\n.\n\nThe thoughtfully designed kitchen offers fantastic cabinetry finishes\, sparkling countertops and a convenient pantry area.\n\n.\n\nHave some peace of mind in a neighborhood that has not previously flooded in Weslaco\, according to seller.\n\n.\n\nCompetitively priced in a prime location. Do not let this offering pass you by! Schedule your showing today.\n\n\n\n3BR 2.5 BA\n\n2 Living Areas\n\n2-Story\n\nWeslaco school district\n\nConvenient to great shops and restaurants\n\n956.867.3874 for more information\n\n\n\nBrokered By: eXp Realty\n\nMLS 320187
X-ALT-DESC;FMTTYPE=text/html:<span style="color:rgb(29\, 33\, 41)\; font-family:helvetica\,arial\,sans-serif\; font-size:14px">This impressive\, two-story home offers three bedrooms\, two baths and a half baths and captivating interior space\, and a second living area on the second floor.</span><br />\n<span style="color:rgb(29\, 33\, 41)\; font-family:helvetica\,arial\,sans-serif\; font-size:14px">.</span><br />\n<span style="color:rgb(29\, 33\, 41)\; font-family:helvetica\,arial\,sans-serif\; font-size:14px">Perfect for entertaining enjoy a family room formal living and dining.</span><br />\n<span style="color:rgb(29\, 33\, 41)\; font-family:helvetica\,arial\,sans-serif\; font-size:14px">.</span><br />\n<span style="color:rgb(29\, 33\, 41)\; font-family:helvetica\,arial\,sans-serif\; font-size:14px">The thoughtfully designed kitchen offers fantastic cabinetry finishes\, sparkling countertops and a convenient pantry area.</span><br />\n<span style="color:rgb(29\, 33\, 41)\; font-family:helvetica\,arial\,sans-serif\; font-size:14px">.</span><br />\n<span style="color:rgb(29\, 33\, 41)\; font-family:helvetica\,arial\,sans-serif\; font-size:14px">Have some peace of mind in a neighborhood that has not previously flooded in Weslaco\, according to seller.</span><br />\n<span style="color:rgb(29\, 33\, 41)\; font-family:helvetica\,arial\,sans-serif\; font-size:14px">.</span><br />\n<span style="color:rgb(29\, 33\, 41)\; font-family:helvetica\,arial\,sans-serif\; font-size:14px">Competitively priced in a prime location. Do not let this offering pass you by! Schedule your showing today.</span><br />\n<br />\n<span style="color:rgb(29\, 33\, 41)\; font-family:helvetica\,arial\,sans-serif\; font-size:14px">3BR 2.5 BA</span><br />\n<span style="color:rgb(29\, 33\, 41)\; font-family:helvetica\,arial\,sans-serif\; font-size:14px">2 Living Areas</span><br />\n<span style="color:rgb(29\, 33\, 41)\; font-family:helvetica\,arial\,sans-serif\; font-size:14px">2-Story</span><br />\n<span style="color:rgb(29\, 33\, 41)\; font-family:helvetica\,arial\,sans-serif\; font-size:14px">Weslaco school district</span><br />\n<span style="color:rgb(29\, 33\, 41)\; font-family:helvetica\,arial\,sans-serif\; font-size:14px">Convenient to great shops and restaurants</span><br />\n<span style="color:rgb(29\, 33\, 41)\; font-family:helvetica\,arial\,sans-serif\; font-size:14px">956.867.3874 for more information</span><br />\n<br />\n<span style="color:rgb(29\, 33\, 41)\; font-family:helvetica\,arial\,sans-serif\; font-size:14px">Brokered By: eXp Realty</span><br />\n<span style="color:rgb(29\, 33\, 41)\; font-family:helvetica\,arial\,sans-serif\; font-size:14px">MLS 320187</span>
LOCATION:1914 W. Washington St. Weslaco\, TX 78599
UID:e.1244.18769
SEQUENCE:3
DTSTAMP:20260420T044011Z
URL:https://business.weslaco.com/events/details/weslaco-open-house-charming-3br-2-5ba-18769
END:VEVENT

END:VCALENDAR
