BEGIN:VCALENDAR
VERSION:2.0
PRODID:-//ChamberMaster//Event Calendar 2.0//EN
METHOD:PUBLISH
X-PUBLISHED-TTL:P3D
REFRESH-INTERVAL:P3D
CALSCALE:GREGORIAN
BEGIN:VEVENT
DTSTART:20190921T140000Z
DTEND:20190921T163000Z
X-MICROSOFT-CDO-ALLDAYEVENT:FALSE
SUMMARY:Weslaco Open House - Cozy 3BR 2BA Home
DESCRIPTION:This cozy home offers three bedrooms\, two baths and charming interior space\, crown moulding and an inviting living area.\n\n.\n\nPerfect for entertaining enjoy a family room formal living and dining.\n\n.\n\nThe thoughtfully designed kitchen offers plenty of cabinet space\, countertops and a breakfast bar.\n\n.\n\nHave some peace of mind in a neighborhood that has not previously flooded in Weslaco\, according to seller.\n\n.\n\nCompetitively priced in a prime location. Do not let this offering pass you by! Schedule your showing today.\n\n \n\n3BR 2 Bath\n\n1 Living Areas\n\nCrown Moulding\n\nWeslaco school district\n\nConvenient to great shops and restaurants\n\n956.867.3874 for more information\n\n.\n\nBrokered By: eXp Realty\n\nMLS 320655
X-ALT-DESC;FMTTYPE=text/html:<p><span style="color:rgb(29\, 33\, 41)\; font-family:helvetica\,arial\,sans-serif\; font-size:14px">This cozy home offers three bedrooms\, two baths and charming interior space\, crown moulding and an inviting living area.</span><br />\n<span style="color:rgb(29\, 33\, 41)\; font-family:helvetica\,arial\,sans-serif\; font-size:14px">.</span><br />\n<span style="color:rgb(29\, 33\, 41)\; font-family:helvetica\,arial\,sans-serif\; font-size:14px">Perfect for entertaining enjoy a family room formal living and dining.</span><br />\n<span style="color:rgb(29\, 33\, 41)\; font-family:helvetica\,arial\,sans-serif\; font-size:14px">.</span><br />\n<span style="color:rgb(29\, 33\, 41)\; font-family:helvetica\,arial\,sans-serif\; font-size:14px">The thoughtfully designed kitchen offers plenty of cabinet space\, countertops and a breakfast bar.</span><br />\n<span style="color:rgb(29\, 33\, 41)\; font-family:helvetica\,arial\,sans-serif\; font-size:14px">.</span><br />\n<span style="color:rgb(29\, 33\, 41)\; font-family:helvetica\,arial\,sans-serif\; font-size:14px">Have some peace of mind in a neighborhood that has not previously flooded in Weslaco\, according to seller.</span><br />\n<span style="color:rgb(29\, 33\, 41)\; font-family:helvetica\,arial\,sans-serif\; font-size:14px">.</span><br />\n<span style="color:rgb(29\, 33\, 41)\; font-family:helvetica\,arial\,sans-serif\; font-size:14px">Competitively priced in a prime location. Do not let this offering pass you by! Schedule your showing today.</span><br />\n&nbsp\;</p>\n\n<p><span style="color:rgb(29\, 33\, 41)\; font-family:helvetica\,arial\,sans-serif\; font-size:14px">3BR 2 Bath</span><br />\n<span style="color:rgb(29\, 33\, 41)\; font-family:helvetica\,arial\,sans-serif\; font-size:14px">1 Living Areas</span><br />\n<span style="color:rgb(29\, 33\, 41)\; font-family:helvetica\,arial\,sans-serif\; font-size:14px">Crown Moulding</span><br />\n<span style="color:rgb(29\, 33\, 41)\; font-family:helvetica\,arial\,sans-serif\; font-size:14px">Weslaco school district</span><br />\n<span style="color:rgb(29\, 33\, 41)\; font-family:helvetica\,arial\,sans-serif\; font-size:14px">Convenient to great shops and restaurants</span><br />\n<span style="color:rgb(29\, 33\, 41)\; font-family:helvetica\,arial\,sans-serif\; font-size:14px">956.867.3874 for more information</span><br />\n<span style="color:rgb(29\, 33\, 41)\; font-family:helvetica\,arial\,sans-serif\; font-size:14px">.</span><br />\n<span style="color:rgb(29\, 33\, 41)\; font-family:helvetica\,arial\,sans-serif\; font-size:14px">Brokered By: eXp Realty</span><br />\n<span style="color:rgb(29\, 33\, 41)\; font-family:helvetica\,arial\,sans-serif\; font-size:14px">MLS 320655</span></p>\n
LOCATION:1817 Largo St. Weslaco\, TX 78596
UID:e.1244.18771
SEQUENCE:3
DTSTAMP:20260420T062402Z
URL:https://business.weslaco.com/events/details/weslaco-open-house-cozy-3br-2ba-home-18771
END:VEVENT

END:VCALENDAR
