BEGIN:VCALENDAR
VERSION:2.0
PRODID:-//ChamberMaster//Event Calendar 2.0//EN
METHOD:PUBLISH
X-PUBLISHED-TTL:P3D
REFRESH-INTERVAL:P3D
CALSCALE:GREGORIAN
BEGIN:VEVENT
DTSTART:20160112T233000Z
DTEND:20160113T003000Z
X-MICROSOFT-CDO-ALLDAYEVENT:FALSE
SUMMARY:Weslaco PD Open Carry Law Seminar
DESCRIPTION:Weslaco PD will discuss the recently passed Open Carry Law in Texas.  Q&A session immediately following the seminar.
X-ALT-DESC;FMTTYPE=text/html:Weslaco PD will discuss the recently passed Open Carry Law in Texas. &nbsp\;Q&amp\;A session immediately following the seminar.&nbsp\;
LOCATION:Business Visitor & Event Center 275 S. Kansas
UID:e.1244.9093
SEQUENCE:3
DTSTAMP:20260423T053752Z
URL:https://business.weslaco.com/events/details/weslaco-pd-open-carry-law-seminar-01-12-2016-9093
END:VEVENT

END:VCALENDAR
