BEGIN:VCALENDAR
VERSION:2.0
PRODID:-//ChamberMaster//Event Calendar 2.0//EN
METHOD:PUBLISH
X-PUBLISHED-TTL:P3D
REFRESH-INTERVAL:P3D
CALSCALE:GREGORIAN
BEGIN:VEVENT
DTSTART:20160922T223000Z
DTEND:20160923T013000Z
X-MICROSOFT-CDO-ALLDAYEVENT:FALSE
SUMMARY:Weslaco Regional Rehab Hospital After Hours Mixer
DESCRIPTION:Weslaco Regional Rehab Hospital celebrates National Rehab Week! Take a tour of the facility\, socialize and make new friends!
X-ALT-DESC;FMTTYPE=text/html:Weslaco Regional Rehab Hospital celebrates National Rehab Week! Take a tour of the facility\, socialize and make new friends!
LOCATION:906 S. James Street Weslaco\, TX 78596
UID:e.1244.11033
SEQUENCE:3
DTSTAMP:20260422T170518Z
URL:https://business.weslaco.com/events/details/weslaco-regional-rehab-hospital-after-hours-mixer-11033
END:VEVENT

END:VCALENDAR
