BEGIN:VCALENDAR
VERSION:2.0
PRODID:-//ChamberMaster//Event Calendar 2.0//EN
METHOD:PUBLISH
X-PUBLISHED-TTL:P3D
REFRESH-INTERVAL:P3D
CALSCALE:GREGORIAN
BEGIN:VEVENT
DTSTART:20151028T200000Z
DTEND:20151028T210000Z
X-MICROSOFT-CDO-ALLDAYEVENT:FALSE
SUMMARY:Weslaco Regional Rehab Hospital Stroke Support Group
DESCRIPTION:Weslaco Regional Rehabilitation Hospital and Knapp Medical Center invite stroke survivors and their families to join us for a free uplifting support group. Come gain support\, education and encouragement from others who know just what you are going through.
X-ALT-DESC;FMTTYPE=text/html:Weslaco Regional Rehabilitation Hospital and Knapp Medical Center invite stroke survivors and their families to join us for a free uplifting support group. Come gain support\, education and encouragement from others who know just what you are going through.
LOCATION:Weslaco Regional Rehabilitation Hospital Cafeteria
UID:e.1244.8750
SEQUENCE:3
DTSTAMP:20260423T113247Z
URL:https://business.weslaco.com/events/details/weslaco-regional-rehab-hospital-stroke-support-group-10-28-2015-8750
END:VEVENT

END:VCALENDAR
