BEGIN:VCALENDAR
VERSION:2.0
PRODID:-//ChamberMaster//Event Calendar 2.0//EN
METHOD:PUBLISH
X-PUBLISHED-TTL:P3D
REFRESH-INTERVAL:P3D
CALSCALE:GREGORIAN
BEGIN:VEVENT
DTSTART:20170921T230000Z
DTEND:20170922T013000Z
X-MICROSOFT-CDO-ALLDAYEVENT:FALSE
SUMMARY:Weslaco Regional Rehabilitation Hospital Reception
DESCRIPTION:Reception celebrating Weslaco Regional Rehab Hospital's certification in Stroke Rehabilitation.
X-ALT-DESC;FMTTYPE=text/html:Reception celebrating Weslaco Regional Rehab Hospital&#39\;s certification in Stroke Rehabilitation.
LOCATION:Weslaco Regional Rehabilitation Hospital 906 S. James St. Weslaco\, TX
UID:e.1244.14396
SEQUENCE:3
DTSTAMP:20260421T203300Z
URL:https://business.weslaco.com/events/details/weslaco-regional-rehabilitation-hospital-reception-14396
END:VEVENT

END:VCALENDAR
